BEGIN:VCALENDAR
VERSION:2.0
PRODID:-//CentralReach | Autism and IDD Care Software - ECPv6.15.16//NONSGML v1.0//EN
CALSCALE:GREGORIAN
METHOD:PUBLISH
X-ORIGINAL-URL:https://centralreach.com
X-WR-CALDESC:Events for CentralReach | Autism and IDD Care Software
REFRESH-INTERVAL;VALUE=DURATION:PT1H
X-Robots-Tag:noindex
X-PUBLISHED-TTL:PT1H
BEGIN:VTIMEZONE
TZID:UTC
BEGIN:STANDARD
TZOFFSETFROM:+0000
TZOFFSETTO:+0000
TZNAME:UTC
DTSTART:20240101T000000
END:STANDARD
END:VTIMEZONE
BEGIN:VEVENT
DTSTART;VALUE=DATE:20251112
DTEND;VALUE=DATE:20251114
DTSTAMP:20260421T172458
CREATED:20250923T023816Z
LAST-MODIFIED:20251015T152837Z
UID:10000287-1762905600-1763078399@centralreach.com
SUMMARY:2025 G-CASE Fall Conference EXPO
DESCRIPTION:We’re heading to Savannah for the G-CASE Fall Conference 2025\, November 12–13! The CentralReach team is looking forward to connecting with district leaders and special education professionals to discuss how technology can simplify processes\, strengthen collaboration\, and support better outcomes for students. \nMake sure to visit us in the exhibit hall to meet our team\, share your challenges\, and see how CentralReach is helping schools build more efficient and equitable special education systems. \nSee you in Savannah!
URL:https://centralreach.com/webinars-and-events/gcase2025/
LOCATION:Hyatt Regency Savannah\, 2 W Bay St\, Savannah\, GA\, 31401\, United States
CATEGORIES:Conferences
ATTACH;FMTTYPE=image/png:https://centralreach.com/wp-content//uploads/2025/09/City-Banner-29.png
END:VEVENT
END:VCALENDAR