BEGIN:VCALENDAR
VERSION:2.0
PRODID:-//CentralReach | Autism and IDD Care Software - ECPv6.15.16//NONSGML v1.0//EN
CALSCALE:GREGORIAN
METHOD:PUBLISH
X-WR-CALNAME:CentralReach | Autism and IDD Care Software
X-ORIGINAL-URL:https://centralreach.com
X-WR-CALDESC:Events for CentralReach | Autism and IDD Care Software
REFRESH-INTERVAL;VALUE=DURATION:PT1H
X-Robots-Tag:noindex
X-PUBLISHED-TTL:PT1H
BEGIN:VTIMEZONE
TZID:UTC
BEGIN:STANDARD
TZOFFSETFROM:+0000
TZOFFSETTO:+0000
TZNAME:UTC
DTSTART:20240101T000000
END:STANDARD
END:VTIMEZONE
BEGIN:VEVENT
DTSTART;VALUE=DATE:20250228
DTEND;VALUE=DATE:20250301
DTSTAMP:20260421T121149
CREATED:20250131T145218Z
LAST-MODIFIED:20250131T152936Z
UID:10000261-1740700800-1740787199@centralreach.com
SUMMARY:NJAPSA Annual Winter Academy
DESCRIPTION:CentralReach is proud to participate as a sponsor at the New Jersey Association of Pupil Services Administrators (NJAPSA) Winter Academy\, taking place on February 28th at Forsgate Country Club. This premier event brings together Directors\, Supervisors\, CST\, and School Administrators from across New Jersey to discuss key issues in special education and pupil services. \nHeading to the Winter Academy? Join us as we sponsor the luncheon and connect with leaders in education at our vendor table. Plus\, don’t miss our exclusive presentation before lunch\, where our team will share valuable insights on how an integrated ecosystem of software and professional development services can enhance student outcomes and improve educator efficiency. \nWe look forward to engaging with you at NJAPSA Winter Academy 2024!
URL:https://centralreach.com/webinars-and-events/njapsa-annual-winter-academy/
LOCATION:Forsgate Country Club\, 375 Forsgate Dr\,\, Monroe Township\, NJ\, 08831\, United States
CATEGORIES:Conferences
ATTACH;FMTTYPE=image/png:https://centralreach.com/wp-content//uploads/2025/01/Monroe-NJ.png
END:VEVENT
END:VCALENDAR